BEGIN:VCALENDAR
VERSION:2.0
PRODID:-//St. Johns Golf - ECPv6.15.18//NONSGML v1.0//EN
CALSCALE:GREGORIAN
METHOD:PUBLISH
X-WR-CALNAME:St. Johns Golf
X-ORIGINAL-URL:https://www.stjohnsgolf.com
X-WR-CALDESC:Events for St. Johns Golf
REFRESH-INTERVAL;VALUE=DURATION:PT1H
X-Robots-Tag:noindex
X-PUBLISHED-TTL:PT1H
BEGIN:VTIMEZONE
TZID:UTC
BEGIN:STANDARD
TZOFFSETFROM:+0000
TZOFFSETTO:+0000
TZNAME:UTC
DTSTART:20250101T000000
END:STANDARD
END:VTIMEZONE
BEGIN:VEVENT
DTSTART;TZID=UTC:20260510T090000
DTEND;TZID=UTC:20260510T130000
DTSTAMP:20260420T091500
CREATED:20260115T193905Z
LAST-MODIFIED:20260324T170239Z
UID:10000067-1778403600-1778418000@www.stjohnsgolf.com
SUMMARY:Mother's Day
DESCRIPTION:Gather the family and let the gratitude grow at our lively Bloom Brunch celebration. We’re pulling out all the stops for the guest of honor\, including a refreshing welcome beverage for Mom and a delightful special gift just for her. It’s the perfect way to celebrate the woman who helped you grow while making colorful new memories together! \n\n\n\n\n\n\nRegister Here
URL:https://www.stjohnsgolf.com/event/mothers-day/
ATTACH;FMTTYPE=image/jpeg:https://www.stjohnsgolf.com/wp-content/uploads/sites/9752/2026/01/Mothers-Day-2026-IG.jpg
END:VEVENT
END:VCALENDAR