BEGIN:VCALENDAR
VERSION:2.0
PRODID:-//St. Johns Golf - ECPv6.15.18//NONSGML v1.0//EN
CALSCALE:GREGORIAN
METHOD:PUBLISH
X-WR-CALNAME:St. Johns Golf
X-ORIGINAL-URL:https://www.stjohnsgolf.com
X-WR-CALDESC:Events for St. Johns Golf
REFRESH-INTERVAL;VALUE=DURATION:PT1H
X-Robots-Tag:noindex
X-PUBLISHED-TTL:PT1H
BEGIN:VTIMEZONE
TZID:UTC
BEGIN:STANDARD
TZOFFSETFROM:+0000
TZOFFSETTO:+0000
TZNAME:UTC
DTSTART:20250101T000000
END:STANDARD
END:VTIMEZONE
BEGIN:VEVENT
DTSTART;TZID=UTC:20260203T130000
DTEND;TZID=UTC:20260203T170000
DTSTAMP:20260424T091952
CREATED:20260112T160125Z
LAST-MODIFIED:20260112T162846Z
UID:10000049-1770123600-1770138000@www.stjohnsgolf.com
SUMMARY:TaylorMade Fitting Day
DESCRIPTION:Get fit with the latest in TaylorMade Clubs!! From a full bag to a new set of Irons or Woods. Schedule your appointment today by clicking the link below.
URL:https://www.stjohnsgolf.com/event/taylormade-fitting-day/
ATTACH;FMTTYPE=image/jpeg:https://www.stjohnsgolf.com/wp-content/uploads/sites/9752/2026/01/Mo-Fitting-4.jpeg
END:VEVENT
BEGIN:VEVENT
DTSTART;TZID=UTC:20260203T170000
DTEND;TZID=UTC:20260203T200000
DTSTAMP:20260424T091952
CREATED:20260212T200005Z
LAST-MODIFIED:20260212T200135Z
UID:10000108-1770138000-1770148800@www.stjohnsgolf.com
SUMMARY:Ladies Toptracer Tuesdays
DESCRIPTION:Ladies rule the Practice Pavilion on Tuesdays!Join us for $10 bay rental\, $20 Seltzer Buckets and 1/2 off Wine.The perfect post work Happy Hour or excuse for a Girls Night.
URL:https://www.stjohnsgolf.com/event/ladies-toptracer-tuesdays-2/2026-02-03/
ATTACH;FMTTYPE=image/jpeg:https://www.stjohnsgolf.com/wp-content/uploads/sites/9752/2026/01/Ladies-IG.jpeg
END:VEVENT
END:VCALENDAR